BEGIN:VCALENDAR
VERSION:2.0
PRODID:-//OmniMagnetCalendar//EN
BEGIN:VEVENT
DTSTAMP:20190625T195740Z
STATUS:CONFIRMED
UID:hcmaine.clubs.harvard.edu200
DTSTART:20161119T170000Z
DTEND:20161119T200000Z
LOCATION:Rivalries Sports Pub, 10 Cotton Street,, 2nd floor, Portland, ME, 04101,
SUMMARY:The Game: Harvard vs. Yale
DESCRIPTION:Please join fellow alums and Yale Club of Western Maine members at Rivalries (10 Cotton Street, Portland). Free admission and hors d’oeuvres (donations appreciated!), cash bar. Children and non-Harvard friends welcome. (Click link for more info.)
BEGIN:VALARM
TRIGGER:-PT15M
ACTION:DISPLAY
END:VALARM
TRANSP:OPAQUE
END:VEVENT
END:VCALENDAR
