BEGIN:VCALENDAR
VERSION:2.0
PRODID:-//OmniMagnetCalendar//EN
BEGIN:VEVENT
DTSTAMP:20190625T195740Z
STATUS:CONFIRMED
UID:hcmaine.clubs.harvard.edu203
DTSTART:20161218T220000Z
DTEND:20161219T000000Z
LOCATION:Camp Hammond, 74 Main Street, Yarmouth, ME, 04096, USA,
SUMMARY:Holiday Party
DESCRIPTION:You are warmly invited to join us for a wonderful evening of food and fellowship at Camp Hammond (275 Main Street, Yarmouth). $40 members/$45 non-members (current students free). Generous hors d’oeuvres and a cash bar. (More info to follow).
BEGIN:VALARM
TRIGGER:-PT15M
ACTION:DISPLAY
END:VALARM
TRANSP:OPAQUE
END:VEVENT
END:VCALENDAR
