BEGIN:VCALENDAR
VERSION:2.0
PRODID:-//OmniMagnetCalendar//EN
BEGIN:VEVENT
DTSTAMP:20190625T195740Z
STATUS:CONFIRMED
UID:hcmaine.clubs.harvard.edu204
DTSTART:20170205T170000Z
DTEND:20170205T230000Z
LOCATION:Pineland Farms, 15 Farm View Drive, New Gloucester, ME, 04260,
SUMMARY:Winter Outing and Gathering
DESCRIPTION:We invite Harvard, Yale, Princeton and Dartmouth alums to enjoy our snowy bounty at Pineland Farms for X-C skiing, sledding, snowshoeing, or ice skating. Followed by an après-ski warm-up with refreshments at an alum’s house. Super Bowl afterwards!
BEGIN:VALARM
TRIGGER:-PT15M
ACTION:DISPLAY
END:VALARM
TRANSP:OPAQUE
END:VEVENT
END:VCALENDAR
