BEGIN:VCALENDAR
VERSION:2.0
PRODID:-//OmniMagnetCalendar//EN
BEGIN:VEVENT
DTSTAMP:20190625T195740Z
STATUS:CONFIRMED
UID:hcmaine.clubs.harvard.edu207
DTSTART:20170507T220000Z
DTEND:20170508T000000Z
LOCATION:The Woodlands Club, 39 Woods Road, Falmouth, ME, 04105,
SUMMARY:Annual Meeting and Dinner 2017
DESCRIPTION:We invite you and your family & friends to join fellow alumni for conversation, food, and a presentation by Katey Stone, the storied Head Coach for Harvard Women’s Ice Hockey, on "21st Century Student Athletes: Harvard Athletics Today."
BEGIN:VALARM
TRIGGER:-PT15M
ACTION:DISPLAY
END:VALARM
TRANSP:OPAQUE
END:VEVENT
END:VCALENDAR
