BEGIN:VCALENDAR
VERSION:2.0
PRODID:-//OmniMagnetCalendar//EN
BEGIN:VEVENT
DTSTAMP:20190625T195740Z
STATUS:CONFIRMED
UID:hcmaine.clubs.harvard.edu211
DTSTART:20170726T200000Z
DTEND:20170727T000000Z
LOCATION:Handy Boat Marina, 215 Foreside Road, Falmouth, ME, 04105,
SUMMARY:Maine-ly Summah Hahvahd Outing 2017
DESCRIPTION:Our second “Maine-ly Summah Hahvahd Outing!”  Please join us for an evening cruise and picnic around the Casco Bay islands.  This is open to HCM members and their families.  There is no cost, but please bring some food and drink to share with all.
BEGIN:VALARM
TRIGGER:-PT15M
ACTION:DISPLAY
END:VALARM
TRANSP:OPAQUE
END:VEVENT
END:VCALENDAR
