BEGIN:VCALENDAR
VERSION:2.0
PRODID:-//OmniMagnetCalendar//EN
BEGIN:VEVENT
DTSTAMP:20190625T195740Z
STATUS:CONFIRMED
UID:hcmaine.clubs.harvard.edu214
DTSTART:20170930T130000Z
DTEND:20170930T160000Z
LOCATION:Knight's Pond Preserve, 477 Greely Road Extension, Cumberland Center, ME, 04021,
SUMMARY:Community Service Outing
DESCRIPTION:Please help us clear and maintain portions of the walking and hiking trails at the Knight's Pond Preserve, of the Royal River Conservation Trust, in Cumberland. Bring lunch if you want to picnic by the pond. Children are welcome so bring the whole family!
BEGIN:VALARM
TRIGGER:-PT15M
ACTION:DISPLAY
END:VALARM
TRANSP:OPAQUE
END:VEVENT
END:VCALENDAR
