BEGIN:VCALENDAR
VERSION:2.0
PRODID:-//OmniMagnetCalendar//EN
BEGIN:VEVENT
DTSTAMP:20190625T195740Z
STATUS:CONFIRMED
UID:hcmaine.clubs.harvard.edu217
DTSTART:20171217T220000Z
DTEND:20171218T000000Z
LOCATION:Camp Hammond, 74 Main Street, Yarmouth, ME, 04096, USA,
SUMMARY:Holiday Party
DESCRIPTION:You are warmly invited to join us for a wonderful evening of food and fellowship at Camp Hammond (275 Main Street, Yarmouth). $45 members/$50 non-members (current students free). Generous hors d’oeuvres and a cash bar.
BEGIN:VALARM
TRIGGER:-PT15M
ACTION:DISPLAY
END:VALARM
TRANSP:OPAQUE
END:VEVENT
END:VCALENDAR
