BEGIN:VCALENDAR
VERSION:2.0
PRODID:-//OmniMagnetCalendar//EN
BEGIN:VEVENT
DTSTAMP:20190625T195740Z
STATUS:CONFIRMED
UID:hcmaine.clubs.harvard.edu219
DTSTART:20180411T220000Z
DTEND:20180412T000000Z
LOCATION:Thos. Moser Showroom, 149 Main Street, Freeport, ME, 04032, USA,
SUMMARY:Thos. Moser Goes to Harvard
DESCRIPTION:Please join us at Thos. Moser in Freeport as Tom Moser discusses past and upcoming projects at Harvard. Also enjoy Visions of Place, an exhibit showcasing 30 Maine artists. There will be wine, microbrews, and lite hors-d’oeuvres.
BEGIN:VALARM
TRIGGER:-PT15M
ACTION:DISPLAY
END:VALARM
TRANSP:OPAQUE
END:VEVENT
END:VCALENDAR
