BEGIN:VCALENDAR
VERSION:2.0
PRODID:-//OmniMagnetCalendar//EN
BEGIN:VEVENT
DTSTAMP:20190625T195740Z
STATUS:CONFIRMED
UID:hcmaine.clubs.harvard.edu222
DTSTART:20180609T220000Z
DTEND:20180609T220000Z
LOCATION:Inn by the Sea, 40 Bowery Beach Road, Cape Elizabeth, ME, 04107,
SUMMARY:Annual Meeting and Dinner 2018
DESCRIPTION:We invite you and your family & friends to join fellow alumni for conversation, food, and a presentation by Harry Lewis, Gordon McKay Professor of Computer Science, on "Reinventing the Classroom, while Rethinking Education"
BEGIN:VALARM
TRIGGER:-PT15M
ACTION:DISPLAY
END:VALARM
TRANSP:OPAQUE
END:VEVENT
END:VCALENDAR
