BEGIN:VCALENDAR
VERSION:2.0
PRODID:-//OmniMagnetCalendar//EN
BEGIN:VEVENT
DTSTAMP:20190625T195740Z
STATUS:CONFIRMED
UID:hcmaine.clubs.harvard.edu223
DTSTART:20180725T200000Z
DTEND:20180726T000000Z
LOCATION:Handy Boat Marina, 215 Foreside Road, Falmouth, ME, 04105,
SUMMARY:Maine-ly Summah Hahvahd Outing 2018
DESCRIPTION:Please join us for our annual summer cruise and picnic around the Casco Bay islands, on our members' sailboats and motorboat.  This is open to all HCM members and their families.  There is no cost, but please bring some food and drink for the potluck.
BEGIN:VALARM
TRIGGER:-PT15M
ACTION:DISPLAY
END:VALARM
TRANSP:OPAQUE
END:VEVENT
END:VCALENDAR
