BEGIN:VCALENDAR
VERSION:2.0
PRODID:-//OmniMagnetCalendar//EN
BEGIN:VEVENT
DTSTAMP:20190625T195740Z
STATUS:CONFIRMED
UID:hcmaine.clubs.harvard.edu226
DTSTART:20180623T200000Z
DTEND:20180623T220000Z
LOCATION:
SUMMARY:New Admits Party
DESCRIPTION:Meet and congratulate the students from Maine to the Harvard College Class of 2022, current students and recent graduates, their families, and all those who helped in the interview process.
BEGIN:VALARM
TRIGGER:-PT15M
ACTION:DISPLAY
END:VALARM
TRANSP:OPAQUE
END:VEVENT
END:VCALENDAR
