BEGIN:VCALENDAR
VERSION:2.0
PRODID:-//OmniMagnetCalendar//EN
BEGIN:VEVENT
DTSTAMP:20190625T195740Z
STATUS:CONFIRMED
UID:hcmaine.clubs.harvard.edu227
DTSTART:20181020T160000Z
DTEND:20181020T200000Z
LOCATION:5th Maine Regimental Museum, 45 Seashore Avenue, Peaks Island, ME, 04108, USA,
SUMMARY:Harvard vs. Princeton Football Game
DESCRIPTION:Please join fellow alums and Princeton Alumni Association of Maine members at the 5th Maine Regimental Museum on Peaks Island. Take the Casco Bay Line ferry to a free catered lunch before the game (donations appreciated!). BYOB. RSVP required.
BEGIN:VALARM
TRIGGER:-PT15M
ACTION:DISPLAY
END:VALARM
TRANSP:OPAQUE
END:VEVENT
END:VCALENDAR
