BEGIN:VCALENDAR
VERSION:2.0
PRODID:-//OmniMagnetCalendar//EN
BEGIN:VEVENT
DTSTAMP:20190625T195740Z
STATUS:CONFIRMED
UID:hcmaine.clubs.harvard.edu231
DTSTART:20181216T220000Z
DTEND:20181217T000000Z
LOCATION:Cumberland Club, 116 High Street, Portland, ME, 04101, USA,
SUMMARY:Holiday Party
DESCRIPTION:You are warmly invited to join us for a wonderful evening of food and fellowship at the Cumberland Club (116 High Street, Portland). $45 members/$50 non-members (current students free). Generous hors d’oeuvres and a cash bar.
BEGIN:VALARM
TRIGGER:-PT15M
ACTION:DISPLAY
END:VALARM
TRANSP:OPAQUE
END:VEVENT
END:VCALENDAR
