BEGIN:VCALENDAR
VERSION:2.0
PRODID:-//OmniMagnetCalendar//EN
BEGIN:VEVENT
DTSTAMP:20190625T195740Z
STATUS:CONFIRMED
UID:hcmaine.clubs.harvard.edu233
DTSTART:20190518T220000Z
DTEND:20190518T220000Z
LOCATION:Cumberland Club, 116 High Street, Portland, ME, 04101,
SUMMARY:Annual Meeting and Dinner 2019
DESCRIPTION:We invite you and your family & friends to join fellow alumni for conversation, food, and a presentation by Donna Hicks, Associate at the Weatherhead Center for International Affairs, on Dignity and the Resolution of Conflict
BEGIN:VALARM
TRIGGER:-PT15M
ACTION:DISPLAY
END:VALARM
TRANSP:OPAQUE
END:VEVENT
END:VCALENDAR
