BEGIN:VCALENDAR
VERSION:2.0
PRODID:-//OmniMagnetCalendar//EN
BEGIN:VEVENT
DTSTAMP:20190625T195740Z
STATUS:CONFIRMED
UID:hcmaine.clubs.harvard.edu235
DTSTART:20191002T213000Z
DTEND:20191002T233000Z
LOCATION:Rising Tide Brewing Company, 103 Fox Street, Portland, ME, 04101, USA,
SUMMARY:Welcome to Your City: Portland, ME
DESCRIPTION:We warmly invite recent alumni (2010-19) from all Harvard schools to this fun, informal event to connect with other recent grads and members of our local alumni club. Venue: Rising Tide Brewing (103 Fox Street).
BEGIN:VALARM
TRIGGER:-PT15M
ACTION:DISPLAY
END:VALARM
TRANSP:OPAQUE
END:VEVENT
END:VCALENDAR
