BEGIN:VCALENDAR
VERSION:2.0
PRODID:-//OmniMagnetCalendar//EN
BEGIN:VEVENT
DTSTAMP:20190625T195740Z
STATUS:CONFIRMED
UID:hcmaine.clubs.harvard.edu239
DTSTART:20200628T210000Z
DTEND:20200628T230000Z
LOCATION:
SUMMARY:Annual Meeting and Cocktail Hour 2020
DESCRIPTION:Join us to exchange your observations about where you are finding intellectual stimulation in this strange time and provide ideas about new activities you would like us to sponsor.
BEGIN:VALARM
TRIGGER:-PT15M
ACTION:DISPLAY
END:VALARM
TRANSP:OPAQUE
END:VEVENT
END:VCALENDAR
