BEGIN:VCALENDAR
VERSION:2.0
PRODID:-//OmniMagnetCalendar//EN
BEGIN:VEVENT
DTSTAMP:20190625T195740Z
STATUS:CONFIRMED
UID:hcmaine.clubs.harvard.edu240
DTSTART:20200115T223000Z
DTEND:20200116T003000Z
LOCATION:Novare Res Bier Cafe, 4 Canal Plaza, Portland, 04101, USA,
SUMMARY:Global Networking Night
DESCRIPTION:This exciting event, organized by the Harvard Alumni Association in cities throughout the world, is a unique opportunity to expand your professional network in a fun social setting. Last year's program drew more than 8,000 registrants in over 100 cities.
BEGIN:VALARM
TRIGGER:-PT15M
ACTION:DISPLAY
END:VALARM
TRANSP:OPAQUE
END:VEVENT
END:VCALENDAR
