BEGIN:VCALENDAR
VERSION:2.0
PRODID:-//OmniMagnetCalendar//EN
BEGIN:VEVENT
DTSTAMP:20190625T195740Z
STATUS:CONFIRMED
UID:hcmaine.clubs.harvard.edu245
DTSTART:20200325T210000Z
DTEND:20200325T230000Z
LOCATION:Solo Italiano, 100 Commercial Steet, Portland, ME, 04101, USA,
SUMMARY:POSTPONED: Maine All-Ivy Meetup
DESCRIPTION:We warmly invite you to our first meetup in Maine of alumni from all the Ivy-League schools! Come meet local alums from all the Ivies at Solo Italiano and help make plans for future fun events together. No cost for this event.
BEGIN:VALARM
TRIGGER:-PT15M
ACTION:DISPLAY
END:VALARM
TRANSP:OPAQUE
END:VEVENT
END:VCALENDAR
