BEGIN:VCALENDAR
VERSION:2.0
PRODID:-//OmniMagnetCalendar//EN
BEGIN:VEVENT
DTSTAMP:20190625T195740Z
STATUS:CONFIRMED
UID:hcmaine.clubs.harvard.edu246
DTSTART:20201025T210000Z
DTEND:20201025T220000Z
LOCATION:
SUMMARY:Annual Talk 2020
DESCRIPTION:This year we will have a presentation by Michael McElroy, Gilbert Butler Professor of Environmental Studies, and author of Energy and Climate: Vision for the Future (2018), via Zoom. (The talk was recorded).
BEGIN:VALARM
TRIGGER:-PT15M
ACTION:DISPLAY
END:VALARM
TRANSP:OPAQUE
END:VEVENT
END:VCALENDAR
