BEGIN:VCALENDAR
VERSION:2.0
PRODID:-//OmniMagnetCalendar//EN
BEGIN:VEVENT
DTSTAMP:20190625T195740Z
STATUS:CONFIRMED
UID:hcmaine.clubs.harvard.edu248
DTSTART:20201024T140000Z
DTEND:20201024T160000Z
LOCATION:Thompson's Orchard, 276 Gloucester Hill Road, New Gloucester, ME, 04260, USA,
SUMMARY:Fall Apple Picking 2020
DESCRIPTION:Please join us for a new Fall Apple Picking event Thompson's Orchard in New Gloucester. Choose from over 15 varieties and try their bakery for fresh pastries, hot spiced cider, and more.  We will gather afterwards.
BEGIN:VALARM
TRIGGER:-PT15M
ACTION:DISPLAY
END:VALARM
TRANSP:OPAQUE
END:VEVENT
END:VCALENDAR
