BEGIN:VCALENDAR
VERSION:2.0
PRODID:-//OmniMagnetCalendar//EN
BEGIN:VEVENT
DTSTAMP:20190625T195740Z
STATUS:CONFIRMED
UID:hcmaine.clubs.harvard.edu249
DTSTART:20201107T180000Z
DTEND:20201107T200000Z
LOCATION: Maine Beer Company, 525 US Route 1, Freeport, ME, 04032,
SUMMARY:CANCELED: Welcome to Maine for New and Old Alums 2020
DESCRIPTION:We warmly invite recent and old alumni from all Harvard schools to this fun, informal event to welcome, mingle, and connect with recent grads and members of our local alumni club.
BEGIN:VALARM
TRIGGER:-PT15M
ACTION:DISPLAY
END:VALARM
TRANSP:OPAQUE
END:VEVENT
END:VCALENDAR
