BEGIN:VCALENDAR
VERSION:2.0
PRODID:-//OmniMagnetCalendar//EN
BEGIN:VEVENT
DTSTAMP:20190625T195740Z
STATUS:CONFIRMED
UID:hcmaine.clubs.harvard.edu250
DTSTART:20201202T000000Z
DTEND:20201202T010000Z
LOCATION:
SUMMARY:Juliette Kayyem Talk 2020
DESCRIPTION:Join alums from the six Harvard Clubs of Northern New England for a talk on Homeland Security by Juliette Kayyem of the Kennedy School of Government.
BEGIN:VALARM
TRIGGER:-PT15M
ACTION:DISPLAY
END:VALARM
TRANSP:OPAQUE
END:VEVENT
END:VCALENDAR
