BEGIN:VCALENDAR
VERSION:2.0
PRODID:-//OmniMagnetCalendar//EN
BEGIN:VEVENT
DTSTAMP:20190625T195740Z
STATUS:CONFIRMED
UID:hcmaine.clubs.harvard.edu253
DTSTART:20210606T210000Z
DTEND:20210606T220000Z
LOCATION:
SUMMARY:Annual Meeting 2021
DESCRIPTION:Please join us for our Annual Meeting, which will be held via Zoom.  You do not have to be a member of the Club to attend this meeting, but you do need to RSVP.
BEGIN:VALARM
TRIGGER:-PT15M
ACTION:DISPLAY
END:VALARM
TRANSP:OPAQUE
END:VEVENT
END:VCALENDAR
