BEGIN:VCALENDAR
VERSION:2.0
PRODID:-//OmniMagnetCalendar//EN
BEGIN:VEVENT
DTSTAMP:20190625T195740Z
STATUS:CONFIRMED
UID:hcmaine.clubs.harvard.edu259
DTSTART:20221119T170000Z
DTEND:20221119T200000Z
LOCATION:
SUMMARY:The Game: Harvard vs. Yale 2022
DESCRIPTION:Please join fellow alums and Yale Club members in Portland or Bangor. Free admission and hors d’oeuvres (donations appreciated!), cash bar. Children and non-Harvard friends welcome. (Click link for more info.)
BEGIN:VALARM
TRIGGER:-PT15M
ACTION:DISPLAY
END:VALARM
TRANSP:OPAQUE
END:VEVENT
END:VCALENDAR
