BEGIN:VCALENDAR
VERSION:2.0
PRODID:-//OmniMagnetCalendar//EN
BEGIN:VEVENT
DTSTAMP:20190625T195740Z
STATUS:CONFIRMED
UID:hcmaine.clubs.harvard.edu260
DTSTART:20221216T220000Z
DTEND:20221217T000000Z
LOCATION:Cumberland Club, 116 High Street, Portland, ME, 04101, USA,
SUMMARY:Holiday Party 2022
DESCRIPTION:You are warmly invited to join us for a wonderful evening of food and fellowship at the Cumberland Club (116 High Street, Portland). $50 members/$60 non-members (current students free). Generous hors d’oeuvres and a cash bar.
BEGIN:VALARM
TRIGGER:-PT15M
ACTION:DISPLAY
END:VALARM
TRANSP:OPAQUE
END:VEVENT
END:VCALENDAR
