BEGIN:VCALENDAR
VERSION:2.0
PRODID:-//OmniMagnetCalendar//EN
BEGIN:VEVENT
DTSTAMP:20190625T195740Z
STATUS:CONFIRMED
UID:hcmaine.clubs.harvard.edu261
DTSTART:20230316T213000Z
DTEND:20230316T233000Z
LOCATION:Luna Rooftop Bard (top floor of Canopy Portland Waterfront Hotel), 285 Commercial Street, Portland, ME, 04101, USA,
SUMMARY:Global Networking Night - 2023
DESCRIPTION:Harvard Global Networking Night at Luna Rooftop!
BEGIN:VALARM
TRIGGER:-PT15M
ACTION:DISPLAY
END:VALARM
TRANSP:OPAQUE
END:VEVENT
END:VCALENDAR
