BEGIN:VCALENDAR
VERSION:2.0
PRODID:-//OmniMagnetCalendar//EN
BEGIN:VEVENT
DTSTAMP:20190625T195740Z
STATUS:CONFIRMED
UID:hcmaine.clubs.harvard.edu263
DTSTART:20230413T213000Z
DTEND:20230413T230000Z
LOCATION:Cumberland Club, 116 High Street, Portland, ME, 04101, USA,
SUMMARY:Harvard & Princeton Invite You to "Observations on a World Transformed" 2023
DESCRIPTION:The Harvard Club in Maine and the Princeton Alumni Association of Maine invite you to join us for an evening of lively conversation with two of our most illustrious local alumni, Charles H. Norchi ‘79 and Harold C. Pachios P’59. Please join us!
BEGIN:VALARM
TRIGGER:-PT15M
ACTION:DISPLAY
END:VALARM
TRANSP:OPAQUE
END:VEVENT
END:VCALENDAR
