BEGIN:VCALENDAR
VERSION:2.0
PRODID:-//OmniMagnetCalendar//EN
BEGIN:VEVENT
DTSTAMP:20190625T195740Z
STATUS:CONFIRMED
UID:hcmaine.clubs.harvard.edu267
DTSTART:20240604T220000Z
DTEND:20240605T000000Z
LOCATION:Cumberland Club, 116 High Street, Portland, ME, 04101,
SUMMARY:Annual Meeting and Dinner 2024
DESCRIPTION:We invite you and your family & friends to join fellow alumni for conversation, food, and a presentation by Melani Cammett, Clarence Dillon Professor of International Affairs and Director of the Weatherhead Center for International Affairs​​​​​
BEGIN:VALARM
TRIGGER:-PT15M
ACTION:DISPLAY
END:VALARM
TRANSP:OPAQUE
END:VEVENT
END:VCALENDAR
