BEGIN:VCALENDAR
VERSION:2.0
PRODID:-//OmniMagnetCalendar//EN
BEGIN:VEVENT
DTSTAMP:20190625T195740Z
STATUS:CONFIRMED
UID:hcmaine.clubs.harvard.edu272
DTSTART:20241213T220000Z
DTEND:20241214T000000Z
LOCATION:Cumberland Club, 116 High Street, Portland, ME, 04101, USA,
SUMMARY:Holiday Party 2024
DESCRIPTION:You are warmly invited to join us this holiday season for a wonderful evening of food and fellowship at the Cumberland Club in Portland. Generous hors d’oeuvres and a cash bar.  All alumni and guests are welcome!
BEGIN:VALARM
TRIGGER:-PT15M
ACTION:DISPLAY
END:VALARM
TRANSP:OPAQUE
END:VEVENT
END:VCALENDAR
