BEGIN:VCALENDAR
VERSION:2.0
PRODID:-//OmniMagnetCalendar//EN
BEGIN:VEVENT
DTSTAMP:20190625T195740Z
STATUS:CONFIRMED
UID:hcmaine.clubs.harvard.edu273
DTSTART:20240730T180000Z
DTEND:20240730T210000Z
LOCATION:Town Landing in Falmouth, Town Landing Road, Falmouth, ME,  04105,
SUMMARY:Maine-ly Summah Hahvahd Outing 2024
DESCRIPTION:Please join us for our 8th summer cruise and picnic around the Casco Bay islands, on our members' sailboats and motorboats.  This is open to all HCM members and their families.  There is no cost, but please bring some food and drink for the potluck.
BEGIN:VALARM
TRIGGER:-PT15M
ACTION:DISPLAY
END:VALARM
TRANSP:OPAQUE
END:VEVENT
END:VCALENDAR
