BEGIN:VCALENDAR
VERSION:2.0
PRODID:-//OmniMagnetCalendar//EN
BEGIN:VEVENT
DTSTAMP:20190625T195740Z
STATUS:CONFIRMED
UID:hcmaine.clubs.harvard.edu279
DTSTART:20250115T223000Z
DTEND:20250116T003000Z
LOCATION:Sea Dog Brewing, 1 Bowdoin Mill Island, Topsham, ME, 04086, USA,
SUMMARY:Crimson DownYeast Tipple Time (Brunswick)
DESCRIPTION:Please join us for our second Happy Hour at Sea Dog Brewing in Topsham!  Come and relax with your fellow alumni and favorite tipple (beer, wine, nonalcoholic drink) after work in Brunswick, right off Route 1 (and close to I-295).
BEGIN:VALARM
TRIGGER:-PT15M
ACTION:DISPLAY
END:VALARM
TRANSP:OPAQUE
END:VEVENT
END:VCALENDAR
