BEGIN:VCALENDAR
VERSION:2.0
PRODID:-//OmniMagnetCalendar//EN
BEGIN:VEVENT
DTSTAMP:20190625T195740Z
STATUS:CONFIRMED
UID:hcmaine.clubs.harvard.edu281
DTSTART:20250208T170000Z
DTEND:20250208T230000Z
LOCATION:Pineland Farms, 15 Farm View Drive, New Gloucester, ME, 04260, USA,
SUMMARY:All-Ivy Midwinter Outing and Gathering
DESCRIPTION:We invite Ivy League alums to two events: An Outing at Pineland Farms for X-C skiing, snowshoeing, sledding, ice skating, and more. And a Gathering at an alum’s house, where alumni from all our schools can meet over hearty food and drink.
BEGIN:VALARM
TRIGGER:-PT15M
ACTION:DISPLAY
END:VALARM
TRANSP:OPAQUE
END:VEVENT
END:VCALENDAR
