BEGIN:VCALENDAR
VERSION:2.0
PRODID:-//OmniMagnetCalendar//EN
BEGIN:VEVENT
DTSTAMP:20190625T195740Z
STATUS:CONFIRMED
UID:hcmaine.clubs.harvard.edu287
DTSTART:20250213T220000Z
DTEND:20250213T233000Z
LOCATION:Virtual,
SUMMARY:Zachary Nowak Talk
DESCRIPTION:Join alums from the six Harvard Clubs of Northern New England for a talk on “A Student’s History of Harvard College”
BEGIN:VALARM
TRIGGER:-PT15M
ACTION:DISPLAY
END:VALARM
TRANSP:OPAQUE
END:VEVENT
END:VCALENDAR
