BEGIN:VCALENDAR
VERSION:2.0
PRODID:-//OmniMagnetCalendar//EN
BEGIN:VEVENT
DTSTAMP:20190625T195740Z
STATUS:CONFIRMED
UID:hcmaine.clubs.harvard.edu289
DTSTART:20250307T233000Z
DTEND:20250308T003000Z
LOCATION:Virtual,
SUMMARY:A Virtual Tour of New England Cheese
DESCRIPTION:Join alums from the six Harvard Clubs of Northern New England for a 'Cheeses of New England' virtual class with fine cheeses and wine pairings, with a virtual mingling session afterward. It's enlightening as well as quite tasty!
BEGIN:VALARM
TRIGGER:-PT15M
ACTION:DISPLAY
END:VALARM
TRANSP:OPAQUE
END:VEVENT
END:VCALENDAR
