BEGIN:VCALENDAR
VERSION:2.0
PRODID:-//OmniMagnetCalendar//EN
BEGIN:VEVENT
DTSTAMP:20190625T195740Z
STATUS:CONFIRMED
UID:hcmaine.clubs.harvard.edu291
DTSTART:20250418T213000Z
DTEND:20250418T233000Z
LOCATION:Verrill, One Portland Square, Union Street, Portland, ME, 04101,
SUMMARY:Radcliffe Pitches Concert
DESCRIPTION:Harvard’s oldest treble-voice a cappella group, celebrating their 50th anniversary with a world tour, visits Portland to sing their elegant and upbeat repertoire of jazz standards, classics from the Great American Songbook, and contemporary songs!
BEGIN:VALARM
TRIGGER:-PT15M
ACTION:DISPLAY
END:VALARM
TRANSP:OPAQUE
END:VEVENT
END:VCALENDAR
