BEGIN:VCALENDAR
VERSION:2.0
PRODID:-//OmniMagnetCalendar//EN
BEGIN:VEVENT
DTSTAMP:20190625T195740Z
STATUS:CONFIRMED
UID:hcmaine.clubs.harvard.edu293
DTSTART:20250514T210000Z
DTEND:20250514T230000Z
LOCATION:Tributary Brewing Company, 10 Shapleigh Road, Kittery, ME, 03904, USA,
SUMMARY:Crimson DownYeast Tipple Time (Kittery)
DESCRIPTION:Please join us for our third Happy Hour at Tributary Brewing in Kittery!  Come and relax with your fellow alumni and favorite tipple (beer, wine, nonalcoholic drink) after work in Kittery, right off I-95.
BEGIN:VALARM
TRIGGER:-PT15M
ACTION:DISPLAY
END:VALARM
TRANSP:OPAQUE
END:VEVENT
END:VCALENDAR
