BEGIN:VCALENDAR
VERSION:2.0
PRODID:-//OmniMagnetCalendar//EN
BEGIN:VEVENT
DTSTAMP:20190625T195740Z
STATUS:CONFIRMED
UID:hcmaine.clubs.harvard.edu295
DTSTART:20250728T190000Z
DTEND:20250728T230000Z
LOCATION:Falmouth Town Landing, Town Landing Road, Falmouth, ME,  04105, USA,
SUMMARY:Maine-ly Summah Hahvahd Outing 2025
DESCRIPTION:Please join us for our 9th summer cruise and picnic around the Casco Bay islands, on our members' sailboats and motorboats.  This is open to all HCM members and their guests.  There is no cost, but please bring food and drink for the potluck.
BEGIN:VALARM
TRIGGER:-PT15M
ACTION:DISPLAY
END:VALARM
TRANSP:OPAQUE
END:VEVENT
END:VCALENDAR
