BEGIN:VCALENDAR
VERSION:2.0
PRODID:-//OmniMagnetCalendar//EN
BEGIN:VEVENT
DTSTAMP:20190625T195740Z
STATUS:CONFIRMED
UID:hcmaine.clubs.harvard.edu297
DTSTART:20250930T213000Z
DTEND:20250930T233000Z
LOCATION: Goodfire Brewing Company, 180 South Freeport Road, Freeport, ME, 04032,
SUMMARY:Welcome to Your State: Maine 2025
DESCRIPTION:We warmly invite recent alumni from all Harvard schools and alumni who have recently moved to Maine to this casual gathering to meet and connect with members of our local alumni club at Goodfire Brewing Company (Freeport).
BEGIN:VALARM
TRIGGER:-PT15M
ACTION:DISPLAY
END:VALARM
TRANSP:OPAQUE
END:VEVENT
END:VCALENDAR
