BEGIN:VCALENDAR
VERSION:2.0
PRODID:-//OmniMagnetCalendar//EN
BEGIN:VEVENT
DTSTAMP:20190625T195740Z
STATUS:CONFIRMED
UID:hcmaine.clubs.harvard.edu301
DTSTART:20251122T163000Z
DTEND:20251122T200000Z
LOCATION:Rivalries, 2 Hat Trick Drive, Falmouth, ME, 04105,
SUMMARY:The Game: Harvard vs. Yale 2025
DESCRIPTION:Please join fellow alumni and the Yale Club of Maine at Rivalries in Falmouth. Admission is free, and hors d’oeuvres will be served (donations are appreciated!). Family and non-Harvard friends are welcome.
BEGIN:VALARM
TRIGGER:-PT15M
ACTION:DISPLAY
END:VALARM
TRANSP:OPAQUE
END:VEVENT
END:VCALENDAR
