BEGIN:VCALENDAR
VERSION:2.0
PRODID:-//OmniMagnetCalendar//EN
BEGIN:VEVENT
DTSTAMP:20190625T195740Z
STATUS:CONFIRMED
UID:hcmaine.clubs.harvard.edu303
DTSTART:20260131T180000Z
DTEND:20260131T230000Z
LOCATION:Camden Snow Bowl , 20 Barnestown Road, Camden, ME,  04843, USA,
SUMMARY:Harvard–Dartmouth Toboggan Race + Tipple Time in Camden 2026
DESCRIPTION:Please join us for a unique winter outdoors event: a friendly toboggan race between the Harvard and Dartmouth Clubs in Maine at the Camden Snow Bowl.  Then, we will gather for Happy Hour revelries at a Camden brewpub!
BEGIN:VALARM
TRIGGER:-PT15M
ACTION:DISPLAY
END:VALARM
TRANSP:OPAQUE
END:VEVENT
END:VCALENDAR
