BEGIN:VCALENDAR
VERSION:2.0
PRODID:-//OmniMagnetCalendar//EN
BEGIN:VEVENT
DTSTAMP:20190625T195740Z
STATUS:CONFIRMED
UID:hcmaine.clubs.harvard.edu305
DTSTART:20260325T213000Z
DTEND:20260325T233000Z
LOCATION:Douro, 110 Thames Street, Portland, ME, 04101, USA,
SUMMARY:Global Networking Night
DESCRIPTION:Join us for this annual informal networking event bringing thousands of Harvard alumni together in over a hundred cities worldwide hosted by alumni clubs. This is a great opportunity to connect with Maine alumni and expand your local Harvard network.
BEGIN:VALARM
TRIGGER:-PT15M
ACTION:DISPLAY
END:VALARM
TRANSP:OPAQUE
END:VEVENT
END:VCALENDAR
